BEGIN:VCALENDAR
VERSION:2.0
PRODID:-//Golden Rosycross Nordic - ECPv6.15.20//NONSGML v1.0//EN
CALSCALE:GREGORIAN
METHOD:PUBLISH
X-WR-CALNAME:Golden Rosycross Nordic
X-ORIGINAL-URL:https://www.goldenrosycross-nordic.org
X-WR-CALDESC:Events for Golden Rosycross Nordic
REFRESH-INTERVAL;VALUE=DURATION:PT1H
X-Robots-Tag:noindex
X-PUBLISHED-TTL:PT1H
BEGIN:VTIMEZONE
TZID:Europe/Stockholm
BEGIN:DAYLIGHT
TZOFFSETFROM:+0100
TZOFFSETTO:+0200
TZNAME:CEST
DTSTART:20250330T010000
END:DAYLIGHT
BEGIN:STANDARD
TZOFFSETFROM:+0200
TZOFFSETTO:+0100
TZNAME:CET
DTSTART:20251026T010000
END:STANDARD
BEGIN:DAYLIGHT
TZOFFSETFROM:+0100
TZOFFSETTO:+0200
TZNAME:CEST
DTSTART:20260329T010000
END:DAYLIGHT
BEGIN:STANDARD
TZOFFSETFROM:+0200
TZOFFSETTO:+0100
TZNAME:CET
DTSTART:20261025T010000
END:STANDARD
BEGIN:DAYLIGHT
TZOFFSETFROM:+0100
TZOFFSETTO:+0200
TZNAME:CEST
DTSTART:20270328T010000
END:DAYLIGHT
BEGIN:STANDARD
TZOFFSETFROM:+0200
TZOFFSETTO:+0100
TZNAME:CET
DTSTART:20271031T010000
END:STANDARD
END:VTIMEZONE
BEGIN:VEVENT
DTSTART;TZID=Europe/Stockholm:20260512T190000
DTEND;TZID=Europe/Stockholm:20260512T200000
DTSTAMP:20260421T114329
CREATED:20260108T181011Z
LAST-MODIFIED:20260108T181011Z
UID:6746-1778612400-1778616000@www.goldenrosycross-nordic.org
SUMMARY:Webinar
DESCRIPTION:Utifrån den andliga traditionen hos det Gyllene Rosenkorset kommer vi att dela insikter om den inre förvandlingens möjlighet\, om rosens hemlighet i hjärtat\, och om hur den universella kärlekens kraftredan nu verkar i världen som en förnyande ström.\n\nVarmt välkomna! \n\n\nInskrivning\nVill du få uppdateringar om andra aktiviteter via e-post? \nAnmälanPlease enable JavaScript in your browser to complete this form.Namn *E-post *ValJag vill gärna få information skickat till mig om aktiviteter på svenskaJag skulle vilja få mejl om aktiviteter på engelskaSkicka  \nMeeting starts in			\n								\n					\n						Det Gyllene Rosenkorset\n													No fixed time\n												\n							Add to:\n							Google Calendar\n							\,\n							\n								iCal Export							\n						\n																				\n								Join in browser							\n														\n								Join in zoom app							\n																		\n				\n				\n										\n					\n				\n			\n			\n\n\nhttps://us06web.zoom.us/s/84331771573 \n📍 Zoom-länk: Klicka här för att delta \n⏰  (rummet öppnar 15 minuter före kontemplationen börjar) \n🔗 Ladda ner Zoom: zoom.us/download \n📞 Problem med internet?\n \nTryck här för att ansluta med mobilen (endast ljud) \nEller: Ring +46844682488\, tryck # och ange mötes-ID 84331771573#.
URL:https://www.goldenrosycross-nordic.org/event/webinar-11/
CATEGORIES:Swedish
ATTACH;FMTTYPE=image/jpeg:https://www.goldenrosycross-nordic.org/wp-content/uploads/2025/12/Kopie-von-IMG_2253-1-scaled-3960029234.jpeg
ORGANIZER;CN="Det Gyllene Rosenkorset":MAILTO:info@rosenkorset.se
END:VEVENT
END:VCALENDAR